BEGIN:VCALENDAR
VERSION:2.0
PRODID:-//startbase.de//startbase Events 1.0//EN
CALSCALE:GREGORIAN
BEGIN:VTIMEZONE
TZID:Europe/Berlin
BEGIN:DAYLIGHT
TZOFFSETFROM:+0100
RRULE:FREQ=YEARLY;BYMONTH=3;BYDAY=-1SU
DTSTART:19810329T020000
TZNAME:CEST
TZOFFSETTO:+0200
END:DAYLIGHT
METHOD:PUBLISH
BEGIN:VEVENT
SUMMARY:2b AHEAD INNOVATOR DAYS 4TH 6TH June 2021
UID:01ad1a85687341eac06e9d306513aceb
SEQUENCE:0
STATUS:CONFIRMED
TRANSP:TRANSPARENT
DTSTART:20210604T150006
DTEND:20210606T170006
DTSTAMP:20210412T165904
LOCATION:
GEO:,
DESCRIPTION:In this intensive 3 days program you will get to know all steps from ideation, validation to the actual pitch - we help you to become a real founder. Therefore we give you insights in our working processes and methods. Increase your horizon with the latest future trends. We are looking forward to 3 interactive days with you. This is definitely not another only-attend online event. Get ready! 0% Luck 100% Hustle\n\n\n\nApply today: https://forms.gle/y9iTajcVjQSN8aaF9
URL:https://www.startbase.com/events/2b-ahead-innovator-days-2021-05/
END:VEVENT
END:VCALENDAR