BEGIN:VCALENDAR
VERSION:2.0
PRODID:-//startbase.de//startbase Events 1.0//EN
CALSCALE:GREGORIAN
BEGIN:VTIMEZONE
TZID:Europe/Berlin
BEGIN:DAYLIGHT
TZOFFSETFROM:+0100
RRULE:FREQ=YEARLY;BYMONTH=3;BYDAY=-1SU
DTSTART:19810329T020000
TZNAME:CEST
TZOFFSETTO:+0200
END:DAYLIGHT
METHOD:PUBLISH
BEGIN:VEVENT
SUMMARY:Founders' Dialogue – der Gründungstreff
UID:0f8f1a6dcab88df82ad463c21d0b6db6
SEQUENCE:0
STATUS:CONFIRMED
TRANSP:TRANSPARENT
DTSTART:20230725T180007
DTEND:20230725T200007
DTSTAMP:20230630T232206
LOCATION:Smoney Hub der Stadtsparkasse Düsseldorf, Berliner Allee 33, Düsseldorf
GEO:51.22217200,6.78200140
DESCRIPTION:\n\nAm 25. Juli 2023 um 18 Uhr\n startet der vierte Founders' Dialogue dieses Jahres.\n\nUm welches Thema es dieses Mal geht, verraten wir bald.\n\nDer Founders' Dialogue findet wieder im \n\nsmoney-hub\n\n der Stadtsparkasse Düsseldorf, Berliner Allee 33, 40212 Düsseldorf statt (\nEingang Ecke Berliner Allee und Steinstraße\n).\n\nBei Fragen vorab kannst du dich an startup4med@med.uni-duesseldorf.de, cedus@hhu.de oder gruenderzeit@hs-duesseldorf wenden.\n\nWir freuen uns auf dich!\n\nDas Founders‘ Dialogue-T
URL:https://www.startbase.com/events/founders-dialogue-der-gruendungstreff-2023-07-smoney-hub-der-stadtsparkasse-duesseldorf/
END:VEVENT
END:VCALENDAR