BEGIN:VCALENDAR
VERSION:2.0
PRODID:-//startbase.de//startbase Events 1.0//EN
CALSCALE:GREGORIAN
BEGIN:VTIMEZONE
TZID:Europe/Berlin
BEGIN:DAYLIGHT
TZOFFSETFROM:+0100
RRULE:FREQ=YEARLY;BYMONTH=3;BYDAY=-1SU
DTSTART:19810329T020000
TZNAME:CEST
TZOFFSETTO:+0200
END:DAYLIGHT
METHOD:PUBLISH
BEGIN:VEVENT
SUMMARY:Human Experience, Sustainability and Products
UID:c7c36fed0a7a05cf15251293abdb0582
SEQUENCE:0
STATUS:CONFIRMED
TRANSP:TRANSPARENT
DTSTART:20210920T180009
DTEND:20210920T200009
DTSTAMP:20210916T235909
LOCATION:eye square GmbH, Schlesische Strasse 29-30, Berlin, Germany
GEO:52.49880030,13.44682220
DESCRIPTION:Is there a right way to build a sustainable brand and how do people perceive sustainable branding?\n\n\n\nIn this workshop, you can expect to have a dialogue around what makes a green brand. By the end of the workshop, you will understand what are the characteristics of a suitable product by playing with the package design.\n\n\n\nExpect to build your package based on conversation and research!\n\n\n\nSpeaker:\n\n- Katharina Tanneberger (Research Consultant Shopper Experience, eye square)\n\n- Isabella von Meng
URL:https://www.startbase.com/events/human-experience-sustainability-and-products-2021-09-eye-square-gmbh/
END:VEVENT
END:VCALENDAR