BEGIN:VCALENDAR
VERSION:2.0
PRODID:-//startbase.de//startbase Events 1.0//EN
CALSCALE:GREGORIAN
BEGIN:VTIMEZONE
TZID:Europe/Berlin
BEGIN:DAYLIGHT
TZOFFSETFROM:+0100
RRULE:FREQ=YEARLY;BYMONTH=3;BYDAY=-1SU
DTSTART:19810329T020000
TZNAME:CEST
TZOFFSETTO:+0200
END:DAYLIGHT
METHOD:PUBLISH
BEGIN:VEVENT
SUMMARY:Nucleate Germany Launch Event
UID:8ab2d7d36b3eda7ed55d86c1a59806c3
SEQUENCE:0
STATUS:CONFIRMED
TRANSP:TRANSPARENT
DTSTART:20230704T180007
DTEND:20230704T200007
DTSTAMP:20230630T232306
LOCATION:TranslaTUM, Einsteinstraße 25, München
GEO:48.13618850,11.60191550
DESCRIPTION:\n\nVisit us at our launch event to connect with relevant players in Germany's Biotech ecosystem and get to know Nucleate!\n\n\nW﻿e invited inspiring speakers from one of Germany's rising Biotech start-ups and active investors to hear their perspective on Germany's Biotech ecosystem.  Come and meet relevant players from VC, Start-ups, Academia, Industry and our global Nucleate community. \n\n\n\n\n\n\nWhat is Nucleate?																																									\n\n\nNucleate is a global non-profit organization
URL:https://www.startbase.com/events/nucleate-germany-launch-event-2023-07-translatum/
END:VEVENT
END:VCALENDAR